BEGIN:VCALENDAR
VERSION:2.0
PRODID:-//eventon.com NONSGML v1.0//EN
CALSCALE:GREGORIAN
METHOD:PUBLISH
BEGIN:VEVENT
UID:69e5f03ce26ab
DTSTAMP:20260420T092204Z
DTSTART:20260101T150000Z
DTEND:20260101T190000Z
LOCATION:
SUMMARY:De Schout Hoogeveen Nieuwjaarsdag '26
DESCRIPTION:De Schout Hoogeveen Nieuwjaarsdag '26\nhttps://bluesheat.nl/eve
 nts/de-schout-hoogeveen-nieuwjaarsdag-26/
URL:https://bluesheat.nl/events/de-schout-hoogeveen-nieuwjaarsdag-26/
END:VEVENT
END:VCALENDAR