BEGIN:VCALENDAR
VERSION:2.0
PRODID:-//eventon.com NONSGML v1.0//EN
CALSCALE:GREGORIAN
METHOD:PUBLISH
BEGIN:VEVENT
UID:69e7f576e9573
DTSTAMP:20260421T220854Z
DTSTART:20230729T200000Z
DTEND:20230805T000000Z
LOCATION:
SUMMARY:Ameland Bluestour 2023
DESCRIPTION:Ameland Bluestour 2023\nhttps://bluesheat.nl/events/ameland-blu
 estour-2023/
URL:https://bluesheat.nl/events/ameland-bluestour-2023/
END:VEVENT
END:VCALENDAR